BEGIN:VCALENDAR
VERSION:2.0
PRODID:www.margaritavilleresorts.com
X-WR-CALNAME:Calendar Of Events
X-WR-CALDESC:Lists the events
X-WR-TIMEZONE:America/New_York
BEGIN:VTIMEZONE
TZID:America/New_York
X-LIC-LOCATION:America/New_York
END:VTIMEZONE
BEGIN:VEVENT
UID:69e5876224708
DTSTART;VALUE=DATE:20250423
SEQUENCE:0
TRANSP:OPAQUE
URL:https://www.margaritavilleresorts.com/camp-margaritaville-rv-resort-cry
 stal-beach-tx/calendar-page/daily-activities
SUMMARY:Daily Activities
CLASS:PUBLIC
DESCRIPTION:Daily Activities\n\nFor Guests of all Ages
RRULE:FREQ=DAILY;INTERVAL=1
X-MICROSOFT-CDO-ALLDAYEVENT:TRUE
DTSTAMP:20260420T015442Z
END:VEVENT
BEGIN:VEVENT
UID:69e5876225137
DTSTART;VALUE=DATE:20250505
SEQUENCE:0
TRANSP:OPAQUE
URL:https://www.margaritavilleresorts.com/camp-margaritaville-rv-resort-cry
 stal-beach-tx/calendar-page/happy-hour
SUMMARY:Fins Up Happy Hour
CLASS:PUBLIC
DESCRIPTION:Fins Up Happy Hour\n\nSee you at the bar!
RRULE:FREQ=WEEKLY;INTERVAL=1;BYDAY=MO,TU,WE,TH,FR
X-MICROSOFT-CDO-ALLDAYEVENT:TRUE
CATEGORIES:Daily Events
DTSTAMP:20260420T015442Z
END:VEVENT
BEGIN:VEVENT
UID:69e587622572b
DTSTART;VALUE=DATE:20250601
SEQUENCE:0
TRANSP:OPAQUE
URL:https://www.margaritavilleresorts.com/camp-margaritaville-rv-resort-cry
 stal-beach-tx/calendar-page/rec-sports-equipment
SUMMARY:Rec sports equipment
CLASS:PUBLIC
DESCRIPTION:Rec sports equipment\n\nBall Rental
RRULE:FREQ=DAILY;INTERVAL=1
X-MICROSOFT-CDO-ALLDAYEVENT:TRUE
DTSTAMP:20260420T015442Z
END:VEVENT
BEGIN:VEVENT
UID:69e5876225d63
DTSTART;VALUE=DATE:20260326
SEQUENCE:0
TRANSP:OPAQUE
URL:https://www.margaritavilleresorts.com/camp-margaritaville-rv-resort-cry
 stal-beach-tx/calendar-page/singtime
SUMMARY:Karaoke
CLASS:PUBLIC
DESCRIPTION:Karaoke\n\nEvery Thursday
RRULE:FREQ=WEEKLY;INTERVAL=1;BYDAY=TH
X-MICROSOFT-CDO-ALLDAYEVENT:TRUE
CATEGORIES:Daily Events
DTSTAMP:20260420T015442Z
END:VEVENT
BEGIN:VEVENT
UID:69e5876226318
DTSTART;VALUE=DATE:20260403
SEQUENCE:0
TRANSP:OPAQUE
URL:https://www.margaritavilleresorts.com/camp-margaritaville-rv-resort-cry
 stal-beach-tx/calendar-page/easter-weekend2
SUMMARY:Easter Weekend '26
CLASS:PUBLIC
DESCRIPTION:Easter Weekend '26\n\nEaster in Paradise
RRULE:FREQ=DAILY;INTERVAL=1;UNTIL=20260405T000000Z
X-MICROSOFT-CDO-ALLDAYEVENT:TRUE
DTSTAMP:20260420T015442Z
END:VEVENT
BEGIN:VEVENT
UID:69e58762268db
DTSTART;VALUE=DATE:20260403
SEQUENCE:0
TRANSP:OPAQUE
URL:https://www.margaritavilleresorts.com/camp-margaritaville-rv-resort-cry
 stal-beach-tx/calendar-page/byron-haynie3
SUMMARY:Byron Haynie
CLASS:PUBLIC
DESCRIPTION:Byron Haynie\n\nAcoustic Performance
RRULE:FREQ=DAILY;INTERVAL=1;UNTIL=20260403T000000Z
X-MICROSOFT-CDO-ALLDAYEVENT:TRUE
DTSTAMP:20260420T015442Z
END:VEVENT
BEGIN:VEVENT
UID:69e5876226e76
DTSTART;VALUE=DATE:20260404
SEQUENCE:0
TRANSP:OPAQUE
URL:https://www.margaritavilleresorts.com/camp-margaritaville-rv-resort-cry
 stal-beach-tx/calendar-page/the-chee-weez
SUMMARY:The Chee-Weez
CLASS:PUBLIC
DESCRIPTION:The Chee-Weez\n\nConcert in Paradise Park
RRULE:FREQ=DAILY;INTERVAL=1;UNTIL=20260404T000000Z
X-MICROSOFT-CDO-ALLDAYEVENT:TRUE
DTSTAMP:20260420T015442Z
END:VEVENT
BEGIN:VEVENT
UID:69e587622739f
DTSTART;VALUE=DATE:20260410
SEQUENCE:0
TRANSP:OPAQUE
URL:https://www.margaritavilleresorts.com/camp-margaritaville-rv-resort-cry
 stal-beach-tx/calendar-page/jerry-almaraz
SUMMARY:Jerry Almaraz
CLASS:PUBLIC
DESCRIPTION:Jerry Almaraz\n\nAcoustic in Paradise Park
RRULE:FREQ=DAILY;INTERVAL=1;UNTIL=20260410T000000Z
X-MICROSOFT-CDO-ALLDAYEVENT:TRUE
DTSTAMP:20260420T015442Z
END:VEVENT
BEGIN:VEVENT
UID:69e58762278d9
DTSTART;VALUE=DATE:20260410
SEQUENCE:0
TRANSP:OPAQUE
URL:https://www.margaritavilleresorts.com/camp-margaritaville-rv-resort-cry
 stal-beach-tx/calendar-page/national-dog-day-weekend
SUMMARY:National Pet Weekend
CLASS:PUBLIC
DESCRIPTION:National Pet Weekend\n\nWoof!
RRULE:FREQ=DAILY;INTERVAL=1;UNTIL=20260412T000000Z
X-MICROSOFT-CDO-ALLDAYEVENT:TRUE
DTSTAMP:20260420T015442Z
END:VEVENT
BEGIN:VEVENT
UID:69e5876227ef5
DTSTART;VALUE=DATE:20260411
SEQUENCE:0
TRANSP:OPAQUE
URL:https://www.margaritavilleresorts.com/camp-margaritaville-rv-resort-cry
 stal-beach-tx/calendar-page/emmy-lou
SUMMARY:Emmy Lou
CLASS:PUBLIC
DESCRIPTION:Emmy Lou\n\nLive Music at Paradise Park
RRULE:FREQ=DAILY;INTERVAL=1;UNTIL=20260411T000000Z
X-MICROSOFT-CDO-ALLDAYEVENT:TRUE
DTSTAMP:20260420T015442Z
END:VEVENT
BEGIN:VEVENT
UID:69e587622877a
DTSTART;VALUE=DATE:20260415
SEQUENCE:0
TRANSP:OPAQUE
URL:https://www.margaritavilleresorts.com/camp-margaritaville-rv-resort-cry
 stal-beach-tx/calendar-page/beachside-rec-club
SUMMARY:Beachside Rec Club
CLASS:PUBLIC
DESCRIPTION:Beachside Rec Club\n\n@ Paradise Pavilion
RRULE:FREQ=WEEKLY;INTERVAL=1;UNTIL=20260429T000000Z;BYDAY=WE
X-MICROSOFT-CDO-ALLDAYEVENT:TRUE
DTSTAMP:20260420T015442Z
END:VEVENT
BEGIN:VEVENT
UID:69e5876228f33
DTSTART;VALUE=DATE:20260415
SEQUENCE:0
TRANSP:OPAQUE
URL:https://www.margaritavilleresorts.com/camp-margaritaville-rv-resort-cry
 stal-beach-tx/calendar-page/mixology-monday
SUMMARY:Mixology Class
CLASS:PUBLIC
DESCRIPTION:Mixology Class\n\nFins Bar & Grill
RRULE:FREQ=WEEKLY;INTERVAL=1;UNTIL=20260429T000000Z;BYDAY=WE
X-MICROSOFT-CDO-ALLDAYEVENT:TRUE
DTSTAMP:20260420T015442Z
END:VEVENT
BEGIN:VEVENT
UID:69e587622968b
DTSTART;VALUE=DATE:20260416
SEQUENCE:0
TRANSP:OPAQUE
URL:https://www.margaritavilleresorts.com/camp-margaritaville-rv-resort-cry
 stal-beach-tx/calendar-page/fins-up-trivia1
SUMMARY:Fins Up Trivia
CLASS:PUBLIC
DESCRIPTION:Fins Up Trivia\n\n@ Fins Bar & Grill
RRULE:FREQ=WEEKLY;INTERVAL=1;BYDAY=TH
X-MICROSOFT-CDO-ALLDAYEVENT:TRUE
DTSTAMP:20260420T015442Z
END:VEVENT
BEGIN:VEVENT
UID:69e587622a097
DTSTART;VALUE=DATE:20260417
SEQUENCE:0
TRANSP:OPAQUE
URL:https://www.margaritavilleresorts.com/camp-margaritaville-rv-resort-cry
 stal-beach-tx/calendar-page/shrimp-boil
SUMMARY:Shrimp Boil
CLASS:PUBLIC
DESCRIPTION:Shrimp Boil\n\nIt's shrimp time!
RRULE:FREQ=WEEKLY;INTERVAL=1;UNTIL=20260529T000000Z;BYDAY=FR
X-MICROSOFT-CDO-ALLDAYEVENT:TRUE
DTSTAMP:20260420T015442Z
END:VEVENT
BEGIN:VEVENT
UID:69e587622a748
DTSTART;VALUE=DATE:20260417
SEQUENCE:0
TRANSP:OPAQUE
URL:https://www.margaritavilleresorts.com/camp-margaritaville-rv-resort-cry
 stal-beach-tx/calendar-page/margaritaville-drink-cart2
SUMMARY:5:00 Somewhere Drink Cart
CLASS:PUBLIC
DESCRIPTION:5:00 Somewhere Drink Cart\n\nIt's 5 o'Clock Somewhere
RRULE:FREQ=WEEKLY;INTERVAL=1;UNTIL=20260530T000000Z;BYDAY=FR,SA
X-MICROSOFT-CDO-ALLDAYEVENT:TRUE
DTSTAMP:20260420T015442Z
END:VEVENT
BEGIN:VEVENT
UID:69e587622add7
DTSTART;VALUE=DATE:20260417
SEQUENCE:0
TRANSP:OPAQUE
URL:https://www.margaritavilleresorts.com/camp-margaritaville-rv-resort-cry
 stal-beach-tx/calendar-page/matthew-marcus-mcdaniel-2
SUMMARY:Matthew Marcus McDaniel
CLASS:PUBLIC
DESCRIPTION:Matthew Marcus McDaniel\n\nLive Music
RRULE:FREQ=DAILY;INTERVAL=1;UNTIL=20260417T000000Z
X-MICROSOFT-CDO-ALLDAYEVENT:TRUE
DTSTAMP:20260420T015442Z
END:VEVENT
BEGIN:VEVENT
UID:69e587622b46f
DTSTART;VALUE=DATE:20260417
SEQUENCE:0
TRANSP:OPAQUE
URL:https://www.margaritavilleresorts.com/camp-margaritaville-rv-resort-cry
 stal-beach-tx/calendar-page/smores-with-santa
SUMMARY:S'mores Social
CLASS:PUBLIC
DESCRIPTION:S'mores Social\n\nS'more s'mores please!
RRULE:FREQ=WEEKLY;INTERVAL=1;BYDAY=FR
X-MICROSOFT-CDO-ALLDAYEVENT:TRUE
CATEGORIES:Daily Events
DTSTAMP:20260420T015442Z
END:VEVENT
BEGIN:VEVENT
UID:69e587622bbc7
DTSTART;VALUE=DATE:20260418
SEQUENCE:0
TRANSP:OPAQUE
URL:https://www.margaritavilleresorts.com/camp-margaritaville-rv-resort-cry
 stal-beach-tx/calendar-page/justin-ross
SUMMARY:Justin Ross
CLASS:PUBLIC
DESCRIPTION:Justin Ross\n\nLive Music in Paradise Park
RRULE:FREQ=DAILY;INTERVAL=1;UNTIL=20260418T000000Z
X-MICROSOFT-CDO-ALLDAYEVENT:TRUE
CATEGORIES:Concerts
DTSTAMP:20260420T015442Z
END:VEVENT
BEGIN:VEVENT
UID:69e587622c234
DTSTART;VALUE=DATE:20260424
SEQUENCE:0
TRANSP:OPAQUE
URL:https://www.margaritavilleresorts.com/camp-margaritaville-rv-resort-cry
 stal-beach-tx/calendar-page/wesley-pruitt-band-2
SUMMARY:Wesley Pruitt
CLASS:PUBLIC
DESCRIPTION:Wesley Pruitt\n\nLive Music in Paradise Park
RRULE:FREQ=DAILY;INTERVAL=1;UNTIL=20260424T000000Z
X-MICROSOFT-CDO-ALLDAYEVENT:TRUE
DTSTAMP:20260420T015442Z
END:VEVENT
BEGIN:VEVENT
UID:69e587622ca0b
DTSTART;VALUE=DATE:20260425
SEQUENCE:0
TRANSP:OPAQUE
URL:https://www.margaritavilleresorts.com/camp-margaritaville-rv-resort-cry
 stal-beach-tx/calendar-page/dalton-grice
SUMMARY:Dalton Grice
CLASS:PUBLIC
DESCRIPTION:Dalton Grice\n\nLive Music at Paradise Park
RRULE:FREQ=DAILY;INTERVAL=1;UNTIL=20260425T000000Z
X-MICROSOFT-CDO-ALLDAYEVENT:TRUE
DTSTAMP:20260420T015442Z
END:VEVENT
BEGIN:VEVENT
UID:69e587622cf83
DTSTART;VALUE=DATE:20260501
SEQUENCE:0
TRANSP:OPAQUE
URL:https://www.margaritavilleresorts.com/camp-margaritaville-rv-resort-cry
 stal-beach-tx/calendar-page/cinco-de-mayo-weekend
SUMMARY:Cinco de Mayo Weekend '26
CLASS:PUBLIC
DESCRIPTION:Cinco de Mayo Weekend '26\n\n@ Camp Margaritaville Crystal Beac
 h
RRULE:FREQ=DAILY;INTERVAL=1;UNTIL=20260503T000000Z
X-MICROSOFT-CDO-ALLDAYEVENT:TRUE
DTSTAMP:20260420T015442Z
END:VEVENT
BEGIN:VEVENT
UID:69e587622d6f6
DTSTART;VALUE=DATE:20260501
SEQUENCE:0
TRANSP:OPAQUE
URL:https://www.margaritavilleresorts.com/camp-margaritaville-rv-resort-cry
 stal-beach-tx/calendar-page/lyda
SUMMARY:Lyda
CLASS:PUBLIC
DESCRIPTION:Lyda\n\nLive Music at Paradise Park
RRULE:FREQ=DAILY;INTERVAL=1;UNTIL=20260501T000000Z
X-MICROSOFT-CDO-ALLDAYEVENT:TRUE
DTSTAMP:20260420T015442Z
END:VEVENT
BEGIN:VEVENT
UID:69e587622dd83
DTSTART;VALUE=DATE:20260502
SEQUENCE:0
TRANSP:OPAQUE
URL:https://www.margaritavilleresorts.com/camp-margaritaville-rv-resort-cry
 stal-beach-tx/calendar-page/rapture-houston
SUMMARY:Rapture Houston
CLASS:PUBLIC
DESCRIPTION:Rapture Houston\n\nConcert at Paradise Park
RRULE:FREQ=DAILY;INTERVAL=1;UNTIL=20260502T000000Z
X-MICROSOFT-CDO-ALLDAYEVENT:TRUE
DTSTAMP:20260420T015442Z
END:VEVENT
BEGIN:VEVENT
UID:69e587622e350
DTSTART;VALUE=DATE:20260508
SEQUENCE:0
TRANSP:OPAQUE
URL:https://www.margaritavilleresorts.com/camp-margaritaville-rv-resort-cry
 stal-beach-tx/calendar-page/mothers-day-weekend
SUMMARY:Mother's Day Weekend
CLASS:PUBLIC
DESCRIPTION:Mother's Day Weekend\n\nCelebrate Mom!
RRULE:FREQ=DAILY;INTERVAL=1;UNTIL=20260510T000000Z
X-MICROSOFT-CDO-ALLDAYEVENT:TRUE
DTSTAMP:20260420T015442Z
END:VEVENT
BEGIN:VEVENT
UID:69e587622e9a2
DTSTART;VALUE=DATE:20260508
SEQUENCE:0
TRANSP:OPAQUE
URL:https://www.margaritavilleresorts.com/camp-margaritaville-rv-resort-cry
 stal-beach-tx/calendar-page/lee-mathis
SUMMARY:Lee Mathis
CLASS:PUBLIC
DESCRIPTION:Lee Mathis\n\nLive Music
RRULE:FREQ=DAILY;INTERVAL=1;UNTIL=20260508T000000Z
X-MICROSOFT-CDO-ALLDAYEVENT:TRUE
DTSTAMP:20260420T015442Z
END:VEVENT
BEGIN:VEVENT
UID:69e587622f5e5
DTSTART;VALUE=DATE:20260509
SEQUENCE:0
TRANSP:OPAQUE
URL:https://www.margaritavilleresorts.com/camp-margaritaville-rv-resort-cry
 stal-beach-tx/calendar-page/jeff-canada
SUMMARY:Jeff Canada
CLASS:PUBLIC
DESCRIPTION:Jeff Canada\n\nAcoustic Performance
RRULE:FREQ=DAILY;INTERVAL=1;UNTIL=20260509T000000Z
X-MICROSOFT-CDO-ALLDAYEVENT:TRUE
DTSTAMP:20260420T015442Z
END:VEVENT
BEGIN:VEVENT
UID:69e587622fbcc
DTSTART;VALUE=DATE:20260515
SEQUENCE:0
TRANSP:OPAQUE
URL:https://www.margaritavilleresorts.com/camp-margaritaville-rv-resort-cry
 stal-beach-tx/calendar-page/zak-webb-band-3
SUMMARY:Zak Webb
CLASS:PUBLIC
DESCRIPTION:Zak Webb\n\nLive Music at Paradise Park
RRULE:FREQ=DAILY;INTERVAL=1;UNTIL=20260515T000000Z
X-MICROSOFT-CDO-ALLDAYEVENT:TRUE
DTSTAMP:20260420T015442Z
END:VEVENT
BEGIN:VEVENT
UID:69e587623022b
DTSTART;VALUE=DATE:20260516
SEQUENCE:0
TRANSP:OPAQUE
URL:https://www.margaritavilleresorts.com/camp-margaritaville-rv-resort-cry
 stal-beach-tx/calendar-page/texas-floodstevie-ray-vaughn-tribute-band
SUMMARY:Texas Flood—Stevie Ray Vaughn Tribute Band
CLASS:PUBLIC
DESCRIPTION:Texas Flood—Stevie Ray Vaughn Tribute Band\n\nConcert at Para
 dise Park
RRULE:FREQ=DAILY;INTERVAL=1;UNTIL=20260516T000000Z
X-MICROSOFT-CDO-ALLDAYEVENT:TRUE
DTSTAMP:20260420T015442Z
END:VEVENT
BEGIN:VEVENT
UID:69e5876230814
DTSTART;VALUE=DATE:20260522
SEQUENCE:0
TRANSP:OPAQUE
URL:https://www.margaritavilleresorts.com/camp-margaritaville-rv-resort-cry
 stal-beach-tx/calendar-page/hayden-haddock-2
SUMMARY:Hayden Haddock
CLASS:PUBLIC
DESCRIPTION:Hayden Haddock\n\nLive Music in Paradise Park
RRULE:FREQ=DAILY;INTERVAL=1;UNTIL=20260522T000000Z
X-MICROSOFT-CDO-ALLDAYEVENT:TRUE
DTSTAMP:20260420T015442Z
END:VEVENT
BEGIN:VEVENT
UID:69e5876230d14
DTSTART;VALUE=DATE:20260522
SEQUENCE:0
TRANSP:OPAQUE
URL:https://www.margaritavilleresorts.com/camp-margaritaville-rv-resort-cry
 stal-beach-tx/calendar-page/memorial-day-weekend
SUMMARY:Memorial Day Weekend
CLASS:PUBLIC
DESCRIPTION:Memorial Day Weekend\n\n@ Camp Margaritaville Crystal Beach
RRULE:FREQ=DAILY;INTERVAL=1;UNTIL=20260525T000000Z
X-MICROSOFT-CDO-ALLDAYEVENT:TRUE
DTSTAMP:20260420T015442Z
END:VEVENT
BEGIN:VEVENT
UID:69e58762312dd
DTSTART;VALUE=DATE:20260523
SEQUENCE:0
TRANSP:OPAQUE
URL:https://www.margaritavilleresorts.com/camp-margaritaville-rv-resort-cry
 stal-beach-tx/calendar-page/pat-green-3
SUMMARY:Pat Green
CLASS:PUBLIC
DESCRIPTION:Pat Green\n\nConcert in Paradise Park
RRULE:FREQ=DAILY;INTERVAL=1;UNTIL=20260523T000000Z
X-MICROSOFT-CDO-ALLDAYEVENT:TRUE
DTSTAMP:20260420T015442Z
END:VEVENT
BEGIN:VEVENT
UID:69e587623198a
DTSTART;VALUE=DATE:20260524
SEQUENCE:0
TRANSP:OPAQUE
URL:https://www.margaritavilleresorts.com/camp-margaritaville-rv-resort-cry
 stal-beach-tx/calendar-page/bag-of-donuts-2
SUMMARY:Bag of Donuts
CLASS:PUBLIC
DESCRIPTION:Bag of Donuts\n\nConcert in Paradise Park
RRULE:FREQ=DAILY;INTERVAL=1;UNTIL=20260524T000000Z
X-MICROSOFT-CDO-ALLDAYEVENT:TRUE
DTSTAMP:20260420T015442Z
END:VEVENT
BEGIN:VEVENT
UID:69e58762325d4
DTSTART;VALUE=DATE:20260529
SEQUENCE:0
TRANSP:OPAQUE
URL:https://www.margaritavilleresorts.com/camp-margaritaville-rv-resort-cry
 stal-beach-tx/calendar-page/liveandletlive
SUMMARY:Livin' For The Weekend
CLASS:PUBLIC
DESCRIPTION:Livin' For The Weekend\n\nNon stop fun!
RRULE:FREQ=DAILY;INTERVAL=1;UNTIL=20260531T000000Z
X-MICROSOFT-CDO-ALLDAYEVENT:TRUE
DTSTAMP:20260420T015442Z
END:VEVENT
BEGIN:VEVENT
UID:69e5876232be6
DTSTART;VALUE=DATE:20260529
SEQUENCE:0
TRANSP:OPAQUE
URL:https://www.margaritavilleresorts.com/camp-margaritaville-rv-resort-cry
 stal-beach-tx/calendar-page/dylan-rhys-oncert
SUMMARY:Dylan Rhys Band
CLASS:PUBLIC
DESCRIPTION:Dylan Rhys Band\n\nLive Music at Paradise Park
RRULE:FREQ=DAILY;INTERVAL=1;UNTIL=20260529T000000Z
X-MICROSOFT-CDO-ALLDAYEVENT:TRUE
DTSTAMP:20260420T015442Z
END:VEVENT
BEGIN:VEVENT
UID:69e587623329b
DTSTART;VALUE=DATE:20260530
SEQUENCE:0
TRANSP:OPAQUE
URL:https://www.margaritavilleresorts.com/camp-margaritaville-rv-resort-cry
 stal-beach-tx/calendar-page/barefoot-nation-kenny-chesney-tribute-band
SUMMARY:Barefoot Nation-Kenny Chesney Tribute Band
CLASS:PUBLIC
DESCRIPTION:Barefoot Nation-Kenny Chesney Tribute Band\n\nConcert in Paradi
 se Park
RRULE:FREQ=DAILY;INTERVAL=1;UNTIL=20260530T000000Z
X-MICROSOFT-CDO-ALLDAYEVENT:TRUE
DTSTAMP:20260420T015442Z
END:VEVENT
BEGIN:VEVENT
UID:69e5876233974
DTSTART;VALUE=DATE:20260605
SEQUENCE:0
TRANSP:OPAQUE
URL:https://www.margaritavilleresorts.com/camp-margaritaville-rv-resort-cry
 stal-beach-tx/calendar-page/zachary-burnett-the-washed-up-kids
SUMMARY:Zachary Burnett & The Washed Up Kids
CLASS:PUBLIC
DESCRIPTION:Zachary Burnett & The Washed Up Kids\n\nLive Music at Paradise 
 Park
RRULE:FREQ=DAILY;INTERVAL=1;UNTIL=20260605T000000Z
X-MICROSOFT-CDO-ALLDAYEVENT:TRUE
DTSTAMP:20260420T015442Z
END:VEVENT
BEGIN:VEVENT
UID:69e5876233f8d
DTSTART;VALUE=DATE:20260612
SEQUENCE:0
TRANSP:OPAQUE
URL:https://www.margaritavilleresorts.com/camp-margaritaville-rv-resort-cry
 stal-beach-tx/calendar-page/sonny-james-band
SUMMARY:Sonny James Band
CLASS:PUBLIC
DESCRIPTION:Sonny James Band\n\nLive Music at Paradise Park
RRULE:FREQ=DAILY;INTERVAL=1;UNTIL=20260612T000000Z
X-MICROSOFT-CDO-ALLDAYEVENT:TRUE
DTSTAMP:20260420T015442Z
END:VEVENT
BEGIN:VEVENT
UID:69e58762345d6
DTSTART;VALUE=DATE:20260613
SEQUENCE:0
TRANSP:OPAQUE
URL:https://www.margaritavilleresorts.com/camp-margaritaville-rv-resort-cry
 stal-beach-tx/calendar-page/tracy-byrd
SUMMARY:Tracy Byrd
CLASS:PUBLIC
DESCRIPTION:Tracy Byrd\n\nConcert in Paradise Park
RRULE:FREQ=DAILY;INTERVAL=1;UNTIL=20260613T000000Z
X-MICROSOFT-CDO-ALLDAYEVENT:TRUE
DTSTAMP:20260420T015442Z
END:VEVENT
BEGIN:VEVENT
UID:69e5876234ba9
DTSTART;VALUE=DATE:20260619
SEQUENCE:0
TRANSP:OPAQUE
URL:https://www.margaritavilleresorts.com/camp-margaritaville-rv-resort-cry
 stal-beach-tx/calendar-page/fathers-day-weekend
SUMMARY:Father's Day Weekend
CLASS:PUBLIC
DESCRIPTION:Father's Day Weekend\n\nCelebrate Dad!
RRULE:FREQ=DAILY;INTERVAL=1;UNTIL=20260621T000000Z
X-MICROSOFT-CDO-ALLDAYEVENT:TRUE
DTSTAMP:20260420T015442Z
END:VEVENT
BEGIN:VEVENT
UID:69e587623514b
DTSTART;VALUE=DATE:20260619
SEQUENCE:0
TRANSP:OPAQUE
URL:https://www.margaritavilleresorts.com/camp-margaritaville-rv-resort-cry
 stal-beach-tx/calendar-page/the-haggertys
SUMMARY:The Haggertys
CLASS:PUBLIC
DESCRIPTION:The Haggertys\n\nConcert at Paradise Park
RRULE:FREQ=DAILY;INTERVAL=1;UNTIL=20260619T000000Z
X-MICROSOFT-CDO-ALLDAYEVENT:TRUE
DTSTAMP:20260420T015442Z
END:VEVENT
BEGIN:VEVENT
UID:69e587623574e
DTSTART;VALUE=DATE:20260620
SEQUENCE:0
TRANSP:OPAQUE
URL:https://www.margaritavilleresorts.com/camp-margaritaville-rv-resort-cry
 stal-beach-tx/calendar-page/wade-bowen3
SUMMARY:Wade Bowen
CLASS:PUBLIC
DESCRIPTION:Wade Bowen\n\nConcert at Paradise Park
RRULE:FREQ=DAILY;INTERVAL=1;UNTIL=20260620T000000Z
X-MICROSOFT-CDO-ALLDAYEVENT:TRUE
DTSTAMP:20260420T015442Z
END:VEVENT
BEGIN:VEVENT
UID:69e5876235c8a
DTSTART;VALUE=DATE:20260626
SEQUENCE:0
TRANSP:OPAQUE
URL:https://www.margaritavilleresorts.com/camp-margaritaville-rv-resort-cry
 stal-beach-tx/calendar-page/mark-david-manders
SUMMARY:Mark David Manders
CLASS:PUBLIC
DESCRIPTION:Mark David Manders\n\nLive Music at Paradise Park
RRULE:FREQ=DAILY;INTERVAL=1;UNTIL=20260626T000000Z
X-MICROSOFT-CDO-ALLDAYEVENT:TRUE
DTSTAMP:20260420T015442Z
END:VEVENT
BEGIN:VEVENT
UID:69e5876236257
DTSTART;VALUE=DATE:20260627
SEQUENCE:0
TRANSP:OPAQUE
URL:https://www.margaritavilleresorts.com/camp-margaritaville-rv-resort-cry
 stal-beach-tx/calendar-page/bellamy-brothers
SUMMARY:The Bellamy Brothers
CLASS:PUBLIC
DESCRIPTION:The Bellamy Brothers\n\nConcert in Paradise Park
RRULE:FREQ=DAILY;INTERVAL=1;UNTIL=20260627T000000Z
X-MICROSOFT-CDO-ALLDAYEVENT:TRUE
DTSTAMP:20260420T015442Z
END:VEVENT
BEGIN:VEVENT
UID:69e58762367b5
DTSTART;VALUE=DATE:20260703
SEQUENCE:0
TRANSP:OPAQUE
URL:https://www.margaritavilleresorts.com/camp-margaritaville-rv-resort-cry
 stal-beach-tx/calendar-page/fourth-of-july-weekend
SUMMARY:Fourth of July Weekend
CLASS:PUBLIC
DESCRIPTION:Fourth of July Weekend\n\nAmerica!
RRULE:FREQ=DAILY;INTERVAL=1;UNTIL=20260705T000000Z
X-MICROSOFT-CDO-ALLDAYEVENT:TRUE
DTSTAMP:20260420T015442Z
END:VEVENT
BEGIN:VEVENT
UID:69e5876237173
DTSTART;VALUE=DATE:20260705
SEQUENCE:0
TRANSP:OPAQUE
URL:https://www.margaritavilleresorts.com/camp-margaritaville-rv-resort-cry
 stal-beach-tx/calendar-page/tracy-lawrence
SUMMARY:Tracy Lawrence
CLASS:PUBLIC
DESCRIPTION:Tracy Lawrence\n\nConcert in Paradise Park
RRULE:FREQ=DAILY;INTERVAL=1;UNTIL=20260705T000000Z
X-MICROSOFT-CDO-ALLDAYEVENT:TRUE
DTSTAMP:20260420T015442Z
END:VEVENT
BEGIN:VEVENT
UID:69e58762377f8
DTSTART;VALUE=DATE:20260711
SEQUENCE:0
TRANSP:OPAQUE
URL:https://www.margaritavilleresorts.com/camp-margaritaville-rv-resort-cry
 stal-beach-tx/calendar-page/josh-abbott-band
SUMMARY:Josh Abbott Band
CLASS:PUBLIC
DESCRIPTION:Josh Abbott Band\n\nConcert at Paradise Park
RRULE:FREQ=DAILY;INTERVAL=1;UNTIL=20260711T000000Z
X-MICROSOFT-CDO-ALLDAYEVENT:TRUE
DTSTAMP:20260420T015442Z
END:VEVENT
BEGIN:VEVENT
UID:69e5876237db4
DTSTART;VALUE=DATE:20260725
SEQUENCE:0
TRANSP:OPAQUE
URL:https://www.margaritavilleresorts.com/camp-margaritaville-rv-resort-cry
 stal-beach-tx/calendar-page/aaron-watson
SUMMARY:Aaron Watson
CLASS:PUBLIC
DESCRIPTION:Aaron Watson\n\nConcert in Paradise Park
RRULE:FREQ=DAILY;INTERVAL=1;UNTIL=20260725T000000Z
X-MICROSOFT-CDO-ALLDAYEVENT:TRUE
DTSTAMP:20260420T015442Z
END:VEVENT
BEGIN:VEVENT
UID:69e5876238550
DTSTART;VALUE=DATE:20260801
SEQUENCE:0
TRANSP:OPAQUE
URL:https://www.margaritavilleresorts.com/camp-margaritaville-rv-resort-cry
 stal-beach-tx/calendar-page/randy-rogers-band3
SUMMARY:Randy Rogers Band
CLASS:PUBLIC
DESCRIPTION:Randy Rogers Band\n\nConcert at Paradise Park
RRULE:FREQ=DAILY;INTERVAL=1;UNTIL=20260801T000000Z
X-MICROSOFT-CDO-ALLDAYEVENT:TRUE
DTSTAMP:20260420T015442Z
END:VEVENT
BEGIN:VEVENT
UID:69e5876238d00
DTSTART;VALUE=DATE:20260830
SEQUENCE:0
TRANSP:OPAQUE
URL:https://www.margaritavilleresorts.com/camp-margaritaville-rv-resort-cry
 stal-beach-tx/calendar-page/jimmy-buffett-day
SUMMARY:Jimmy Buffett Day
CLASS:PUBLIC
DESCRIPTION:Jimmy Buffett Day\n\nCharitable Day of Giving
RRULE:FREQ=DAILY;INTERVAL=1;UNTIL=20260830T000000Z
X-MICROSOFT-CDO-ALLDAYEVENT:TRUE
DTSTAMP:20260420T015442Z
END:VEVENT
BEGIN:VEVENT
UID:69e58762392c1
DTSTART;VALUE=DATE:20261001
SEQUENCE:0
TRANSP:OPAQUE
URL:https://www.margaritavilleresorts.com/camp-margaritaville-rv-resort-cry
 stal-beach-tx/calendar-page/halloween-month
SUMMARY:Halloween Month
CLASS:PUBLIC
DESCRIPTION:Halloween Month\n\nSpooky Season is upon us!
RRULE:FREQ=DAILY;INTERVAL=1;UNTIL=20261031T000000Z
X-MICROSOFT-CDO-ALLDAYEVENT:TRUE
DTSTAMP:20260420T015442Z
END:VEVENT
BEGIN:VEVENT
UID:69e587623984e
DTSTART;VALUE=DATE:20261126
SEQUENCE:0
TRANSP:OPAQUE
URL:https://www.margaritavilleresorts.com/camp-margaritaville-rv-resort-cry
 stal-beach-tx/calendar-page/thanksgiving-weekend
SUMMARY:Thanksgiving Weekend
CLASS:PUBLIC
DESCRIPTION:Thanksgiving Weekend\n\nThanksgiving in Paradise
RRULE:FREQ=DAILY;INTERVAL=1;UNTIL=20261129T000000Z
X-MICROSOFT-CDO-ALLDAYEVENT:TRUE
DTSTAMP:20260420T015442Z
END:VEVENT
BEGIN:VEVENT
UID:69e5876239e8e
DTSTART;VALUE=DATE:20261201
SEQUENCE:0
TRANSP:OPAQUE
URL:https://www.margaritavilleresorts.com/camp-margaritaville-rv-resort-cry
 stal-beach-tx/calendar-page/christmasbeach
SUMMARY:Christmas Month
CLASS:PUBLIC
DESCRIPTION:Christmas Month\n\nChristmas in Paradise!
RRULE:FREQ=DAILY;INTERVAL=1;UNTIL=20261231T000000Z
X-MICROSOFT-CDO-ALLDAYEVENT:TRUE
DTSTAMP:20260420T015442Z
END:VEVENT
BEGIN:VEVENT
UID:69e587623a3e5
DTSTART;VALUE=DATE:20261231
SEQUENCE:0
TRANSP:OPAQUE
URL:https://www.margaritavilleresorts.com/camp-margaritaville-rv-resort-cry
 stal-beach-tx/calendar-page/nye2026
SUMMARY:New Year’s Eve
CLASS:PUBLIC
DESCRIPTION:New Year’s Eve\n\nRing in the New Year with us
RRULE:FREQ=DAILY;INTERVAL=1;UNTIL=20261231T000000Z
X-MICROSOFT-CDO-ALLDAYEVENT:TRUE
CATEGORIES:Daily Events
DTSTAMP:20260420T015442Z
END:VEVENT
END:VCALENDAR