BEGIN:VCALENDAR
VERSION:2.0
PRODID:www.margaritavilleresorts.com
X-WR-CALNAME:Calendar Of Events
X-WR-CALDESC:Lists the events
X-WR-TIMEZONE:America/New_York
BEGIN:VTIMEZONE
TZID:America/New_York
X-LIC-LOCATION:America/New_York
END:VTIMEZONE
BEGIN:VEVENT
UID:69e7696e725a8
DTSTART;VALUE=DATE:20241010
SEQUENCE:0
TRANSP:OPAQUE
URL:https://www.margaritavilleresorts.com/margaritaville-lake-resort-lake-c
 onroe/experiences/calendar-of-events/tropical-thursdays
SUMMARY:Tropical Thursdays
CLASS:PUBLIC
DESCRIPTION:Tropical Thursdays\n\nEnjoy $5 Island Breeze and $ Nachos Bites
 .
RRULE:FREQ=WEEKLY;INTERVAL=1;BYDAY=TH
X-MICROSOFT-CDO-ALLDAYEVENT:TRUE
CATEGORIES:LandShark Events
DTSTAMP:20260421T121126Z
END:VEVENT
BEGIN:VEVENT
UID:69e7696e7304f
DTSTART;VALUE=DATE:20241011
SEQUENCE:0
TRANSP:OPAQUE
URL:https://www.margaritavilleresorts.com/margaritaville-lake-resort-lake-c
 onroe/experiences/calendar-of-events/fins-up-fridays
SUMMARY:Fins Up Fridays
CLASS:PUBLIC
DESCRIPTION:Fins Up Fridays\n\nEnjoy $5 5 o'Clock Somewhere Cocktails and $
 5 BBQ Pork Sliders.
RRULE:FREQ=WEEKLY;INTERVAL=1;BYDAY=FR
X-MICROSOFT-CDO-ALLDAYEVENT:TRUE
CATEGORIES:LandShark Events
DTSTAMP:20260421T121126Z
END:VEVENT
BEGIN:VEVENT
UID:69e7696e735e6
DTSTART;VALUE=DATE:20250525
SEQUENCE:0
TRANSP:OPAQUE
URL:https://www.margaritavilleresorts.com/margaritaville-lake-resort-lake-c
 onroe/experiences/calendar-of-events/money-shots-hole-in-one-challenge3
SUMMARY:Money Shots Hole-in-One Challenge
CLASS:PUBLIC
DESCRIPTION:Money Shots Hole-in-One Challenge\n\nTake a $hot to Win $5\,000
 !
RRULE:FREQ=WEEKLY;INTERVAL=1;BYDAY=SU
X-MICROSOFT-CDO-ALLDAYEVENT:TRUE
CATEGORIES:Activities,4th of July Events
DTSTAMP:20260421T121126Z
END:VEVENT
BEGIN:VEVENT
UID:69e7696e73cec
DTSTART;VALUE=DATE:20250524
SEQUENCE:0
TRANSP:OPAQUE
URL:https://www.margaritavilleresorts.com/margaritaville-lake-resort-lake-c
 onroe/experiences/calendar-of-events/money-shots-hole-in-one-challenge2
SUMMARY:Money Shots Hole-in-One Challenge
CLASS:PUBLIC
DESCRIPTION:Money Shots Hole-in-One Challenge\n\nTake a $hot to Win $5\,000
 !
RRULE:FREQ=WEEKLY;INTERVAL=1;BYDAY=SA
X-MICROSOFT-CDO-ALLDAYEVENT:TRUE
CATEGORIES:Activities,4th of July Events
DTSTAMP:20260421T121126Z
END:VEVENT
BEGIN:VEVENT
UID:69e7696e745e9
DTSTART;VALUE=DATE:20250523
SEQUENCE:0
TRANSP:OPAQUE
URL:https://www.margaritavilleresorts.com/margaritaville-lake-resort-lake-c
 onroe/experiences/calendar-of-events/money-shots-hole-in-one-challenge4
SUMMARY:Money Shots Hole-in-One Challenge
CLASS:PUBLIC
DESCRIPTION:Money Shots Hole-in-One Challenge\n\nTake a $hot to Win $5\,000
 !
RRULE:FREQ=WEEKLY;INTERVAL=1;BYDAY=FR
X-MICROSOFT-CDO-ALLDAYEVENT:TRUE
CATEGORIES:Activities,4th of July Events
DTSTAMP:20260421T121126Z
END:VEVENT
BEGIN:VEVENT
UID:69e7696e74d43
DTSTART;VALUE=DATE:20250703
SEQUENCE:0
TRANSP:OPAQUE
URL:https://www.margaritavilleresorts.com/margaritaville-lake-resort-lake-c
 onroe/experiences/calendar-of-events/sports-simulator
SUMMARY:Sports Simulator
CLASS:PUBLIC
DESCRIPTION:Sports Simulator\n\nTest your skill against the Sports Simulato
 r.
RRULE:FREQ=DAILY;INTERVAL=1
X-MICROSOFT-CDO-ALLDAYEVENT:TRUE
CATEGORIES:Activities,4th of July Events
DTSTAMP:20260421T121126Z
END:VEVENT
BEGIN:VEVENT
UID:69e7696e752c1
DTSTART;VALUE=DATE:20250718
SEQUENCE:0
TRANSP:OPAQUE
URL:https://www.margaritavilleresorts.com/margaritaville-lake-resort-lake-c
 onroe/experiences/calendar-of-events/boathouse-fridays
SUMMARY:Boathouse Fridays
CLASS:PUBLIC
DESCRIPTION:Boathouse Fridays\n\nEnjoy Music and Drinks in Boathouse Bar & 
 Lounge.
RRULE:FREQ=WEEKLY;INTERVAL=1;BYDAY=FR
X-MICROSOFT-CDO-ALLDAYEVENT:TRUE
CATEGORIES:Activities,Boathouse Events
DTSTAMP:20260421T121126Z
END:VEVENT
BEGIN:VEVENT
UID:69e7696e7589b
DTSTART;VALUE=DATE:20260309
SEQUENCE:0
TRANSP:OPAQUE
URL:https://www.margaritavilleresorts.com/margaritaville-lake-resort-lake-c
 onroe/experiences/calendar-of-events/seated-strength-fitness-class
SUMMARY:Seated Strength Fitness Class
CLASS:PUBLIC
DESCRIPTION:Seated Strength Fitness Class\n\nSeated Strength Fitness Class
RRULE:FREQ=WEEKLY;INTERVAL=1;BYDAY=MO,WE
X-MICROSOFT-CDO-ALLDAYEVENT:TRUE
CATEGORIES:Fitness
DTSTAMP:20260421T121126Z
END:VEVENT
BEGIN:VEVENT
UID:69e7696e75e03
DTSTART;VALUE=DATE:20260309
SEQUENCE:0
TRANSP:OPAQUE
URL:https://www.margaritavilleresorts.com/margaritaville-lake-resort-lake-c
 onroe/experiences/calendar-of-events/stretch-fitness-class
SUMMARY:Stretch Fitness Class
CLASS:PUBLIC
DESCRIPTION:Stretch Fitness Class\n\nStretch Fitness Class
RRULE:FREQ=WEEKLY;INTERVAL=1;BYDAY=MO,WE
X-MICROSOFT-CDO-ALLDAYEVENT:TRUE
CATEGORIES:Fitness
DTSTAMP:20260421T121126Z
END:VEVENT
BEGIN:VEVENT
UID:69e7696e763e7
DTSTART;VALUE=DATE:20260311
SEQUENCE:0
TRANSP:OPAQUE
URL:https://www.margaritavilleresorts.com/margaritaville-lake-resort-lake-c
 onroe/experiences/calendar-of-events/core-and-abs-focus-fitness-class
SUMMARY:Core and Abs Focus Fitness Class
CLASS:PUBLIC
DESCRIPTION:Core and Abs Focus Fitness Class\n\nCore/Abs Fitness Class
RRULE:FREQ=WEEKLY;INTERVAL=1;BYDAY=MO,WE
X-MICROSOFT-CDO-ALLDAYEVENT:TRUE
CATEGORIES:Fitness
DTSTAMP:20260421T121126Z
END:VEVENT
BEGIN:VEVENT
UID:69e7696e76a95
DTSTART;VALUE=DATE:20260310
SEQUENCE:0
TRANSP:OPAQUE
URL:https://www.margaritavilleresorts.com/margaritaville-lake-resort-lake-c
 onroe/experiences/calendar-of-events/step-tone-fitness-class
SUMMARY:Step & Tone Fitness Class
CLASS:PUBLIC
DESCRIPTION:Step & Tone Fitness Class\n\nStep & Tone Fitness Class
RRULE:FREQ=WEEKLY;INTERVAL=1;BYDAY=TU
X-MICROSOFT-CDO-ALLDAYEVENT:TRUE
CATEGORIES:Fitness
DTSTAMP:20260421T121126Z
END:VEVENT
BEGIN:VEVENT
UID:69e7696e7703f
DTSTART;VALUE=DATE:20260310
SEQUENCE:0
TRANSP:OPAQUE
URL:https://www.margaritavilleresorts.com/margaritaville-lake-resort-lake-c
 onroe/experiences/calendar-of-events/mat-pilates-fitness-class
SUMMARY:Mat Pilates Fitness Class
CLASS:PUBLIC
DESCRIPTION:Mat Pilates Fitness Class\n\nMat Pilates Fitness Class
RRULE:FREQ=WEEKLY;INTERVAL=1;BYDAY=TU
X-MICROSOFT-CDO-ALLDAYEVENT:TRUE
CATEGORIES:Fitness
DTSTAMP:20260421T121126Z
END:VEVENT
BEGIN:VEVENT
UID:69e7696e777c3
DTSTART;VALUE=DATE:20260310
SEQUENCE:0
TRANSP:OPAQUE
URL:https://www.margaritavilleresorts.com/margaritaville-lake-resort-lake-c
 onroe/experiences/calendar-of-events/stretch-yin-yoga
SUMMARY:Stretch-Yin Yoga
CLASS:PUBLIC
DESCRIPTION:Stretch-Yin Yoga\n\nStretch/Yin Yoga Fitness Class
RRULE:FREQ=WEEKLY;INTERVAL=1;BYDAY=TU
X-MICROSOFT-CDO-ALLDAYEVENT:TRUE
CATEGORIES:Fitness
DTSTAMP:20260421T121126Z
END:VEVENT
BEGIN:VEVENT
UID:69e7696e77ea0
DTSTART;VALUE=DATE:20260311
SEQUENCE:0
TRANSP:OPAQUE
URL:https://www.margaritavilleresorts.com/margaritaville-lake-resort-lake-c
 onroe/experiences/calendar-of-events/margaritaville-moves-fitness-class-we
 dnesday
SUMMARY:Margaritaville Moves Fitness Class-Wednesday
CLASS:PUBLIC
DESCRIPTION:Margaritaville Moves Fitness Class-Wednesday\n\nMargaritaville 
 Moves Fitness Class-Wednesday
RRULE:FREQ=WEEKLY;INTERVAL=1;BYDAY=WE
X-MICROSOFT-CDO-ALLDAYEVENT:TRUE
CATEGORIES:Fitness
DTSTAMP:20260421T121126Z
END:VEVENT
BEGIN:VEVENT
UID:69e7696e7855b
DTSTART;VALUE=DATE:20260313
SEQUENCE:0
TRANSP:OPAQUE
URL:https://www.margaritavilleresorts.com/margaritaville-lake-resort-lake-c
 onroe/experiences/calendar-of-events/zumba-fitness-class
SUMMARY:Zumba Fitness Class
CLASS:PUBLIC
DESCRIPTION:Zumba Fitness Class\n\nZumba Fitness Class
RRULE:FREQ=WEEKLY;INTERVAL=1;BYDAY=FR
X-MICROSOFT-CDO-ALLDAYEVENT:TRUE
CATEGORIES:Fitness
DTSTAMP:20260421T121126Z
END:VEVENT
BEGIN:VEVENT
UID:69e7696e78acf
DTSTART;VALUE=DATE:20260313
SEQUENCE:0
TRANSP:OPAQUE
URL:https://www.margaritavilleresorts.com/margaritaville-lake-resort-lake-c
 onroe/experiences/calendar-of-events/margaritaville-moves-fitness-class-fr
 iday
SUMMARY:Margaritaville Moves Fitness Class-Friday
CLASS:PUBLIC
DESCRIPTION:Margaritaville Moves Fitness Class-Friday\n\nMargaritaville Mov
 es Fitness Class-Friday
RRULE:FREQ=WEEKLY;INTERVAL=1;BYDAY=FR
X-MICROSOFT-CDO-ALLDAYEVENT:TRUE
CATEGORIES:Fitness
DTSTAMP:20260421T121126Z
END:VEVENT
BEGIN:VEVENT
UID:69e7696e7902b
DTSTART;VALUE=DATE:20260313
SEQUENCE:0
TRANSP:OPAQUE
URL:https://www.margaritavilleresorts.com/margaritaville-lake-resort-lake-c
 onroe/experiences/calendar-of-events/barre-lates-fitness-class
SUMMARY:Barre-lates Fitness Class
CLASS:PUBLIC
DESCRIPTION:Barre-lates Fitness Class\n\nBarre-lates Fitness Class
RRULE:FREQ=WEEKLY;INTERVAL=1;BYDAY=FR
X-MICROSOFT-CDO-ALLDAYEVENT:TRUE
CATEGORIES:Fitness
DTSTAMP:20260421T121126Z
END:VEVENT
BEGIN:VEVENT
UID:69e7696e79564
DTSTART;VALUE=DATE:20260320
SEQUENCE:0
TRANSP:OPAQUE
URL:https://www.margaritavilleresorts.com/margaritaville-lake-resort-lake-c
 onroe/experiences/calendar-of-events/margaritaville-moves-fitness-class-sa
 turday
SUMMARY:Margaritaville Moves Fitness Class-Saturday
CLASS:PUBLIC
DESCRIPTION:Margaritaville Moves Fitness Class-Saturday\n\nMargaritaville M
 oves Fitness Class-Saturday
RRULE:FREQ=WEEKLY;INTERVAL=1;BYDAY=FR
X-MICROSOFT-CDO-ALLDAYEVENT:TRUE
CATEGORIES:Fitness
DTSTAMP:20260421T121126Z
END:VEVENT
BEGIN:VEVENT
UID:69e7696e79ba9
DTSTART;VALUE=DATE:20260316
SEQUENCE:0
TRANSP:OPAQUE
URL:https://www.margaritavilleresorts.com/margaritaville-lake-resort-lake-c
 onroe/experiences/calendar-of-events/march-madness-at-landshark-bar
SUMMARY:March Madness at LandShark Bar &
CLASS:PUBLIC
DESCRIPTION:March Madness at LandShark Bar &\n\nMarch Madness at LandShark 
 Bar & Grill - Big Games. Cold Drinks. Island Vibes.
RRULE:FREQ=DAILY;INTERVAL=1;UNTIL=20260406T000000Z
X-MICROSOFT-CDO-ALLDAYEVENT:TRUE
CATEGORIES:LandShark Events
DTSTAMP:20260421T121126Z
END:VEVENT
BEGIN:VEVENT
UID:69e7696e7a104
DTSTART;VALUE=DATE:20260409
SEQUENCE:0
TRANSP:OPAQUE
URL:https://www.margaritavilleresorts.com/margaritaville-lake-resort-lake-c
 onroe/experiences/calendar-of-events/einsteins-sunset-cruise
SUMMARY:Einstein's Sunset Cruise
CLASS:PUBLIC
DESCRIPTION:Einstein's Sunset Cruise\n\nClimb aboard for a Lake Conroe Suns
 et Cruise!
RRULE:FREQ=DAILY;INTERVAL=1;UNTIL=20260907T000000Z
X-MICROSOFT-CDO-ALLDAYEVENT:TRUE
CATEGORIES:Activities,Spring Break Events
DTSTAMP:20260421T121126Z
END:VEVENT
BEGIN:VEVENT
UID:69e7696e7a637
DTSTART;VALUE=DATE:20260417
SEQUENCE:0
TRANSP:OPAQUE
URL:https://www.margaritavilleresorts.com/margaritaville-lake-resort-lake-c
 onroe/experiences/calendar-of-events/uncorked-fridays-in-license-to-chill-
 bar-caf
SUMMARY:Uncorked Fridays in License to Chill Bar & Café
CLASS:PUBLIC
DESCRIPTION:Uncorked Fridays in License to Chill Bar & Café\n\nSip Into So
 mething Special: Monthly Wine Tasting at License to Chill.
RRULE:FREQ=DAILY;INTERVAL=1;UNTIL=20260918T000000Z
X-MICROSOFT-CDO-ALLDAYEVENT:TRUE
CATEGORIES:License to Chill Bar & Café,Spring Break Events
DTSTAMP:20260421T121126Z
END:VEVENT
BEGIN:VEVENT
UID:69e7696e7ab19
DTSTART;VALUE=DATE:20260501
SEQUENCE:0
TRANSP:OPAQUE
URL:https://www.margaritavilleresorts.com/margaritaville-lake-resort-lake-c
 onroe/experiences/calendar-of-events/cinco-de-mayo-fiesta-weekend
SUMMARY:Cinco de Mayo Fiesta Weekend
CLASS:PUBLIC
DESCRIPTION:Cinco de Mayo Fiesta Weekend\n\nA Three-Day Celebration of Flav
 or\, Music & Fun
RRULE:FREQ=DAILY;INTERVAL=1;UNTIL=20260503T000000Z
X-MICROSOFT-CDO-ALLDAYEVENT:TRUE
CATEGORIES:Resort Events
DTSTAMP:20260421T121126Z
END:VEVENT
BEGIN:VEVENT
UID:69e7696e7b0b9
DTSTART;VALUE=DATE:20260501
SEQUENCE:0
TRANSP:OPAQUE
URL:https://www.margaritavilleresorts.com/margaritaville-lake-resort-lake-c
 onroe/experiences/calendar-of-events/live-cigar-rolling
SUMMARY:Live Cigar Rolling
CLASS:PUBLIC
DESCRIPTION:Live Cigar Rolling\n\nEnjoy the refined taste of a hand-rolled 
 cigar.
RRULE:FREQ=DAILY;INTERVAL=1;UNTIL=20260501T000000Z
X-MICROSOFT-CDO-ALLDAYEVENT:TRUE
CATEGORIES:Resort Events
DTSTAMP:20260421T121126Z
END:VEVENT
BEGIN:VEVENT
UID:69e7696e7b5ba
DTSTART;VALUE=DATE:20260501
SEQUENCE:0
TRANSP:OPAQUE
URL:https://www.margaritavilleresorts.com/margaritaville-lake-resort-lake-c
 onroe/experiences/calendar-of-events/cinco-de-mayo-welcome-party
SUMMARY:Cinco de Mayo Welcome Party
CLASS:PUBLIC
DESCRIPTION:Cinco de Mayo Welcome Party\n\nDJ beats\, mingling\, and a live
 ly courtyard vibe
RRULE:FREQ=DAILY;INTERVAL=1;UNTIL=20260501T000000Z
X-MICROSOFT-CDO-ALLDAYEVENT:TRUE
CATEGORIES:Resort Events
DTSTAMP:20260421T121126Z
END:VEVENT
BEGIN:VEVENT
UID:69e7696e7ba6b
DTSTART;VALUE=DATE:20260501
SEQUENCE:0
TRANSP:OPAQUE
URL:https://www.margaritavilleresorts.com/margaritaville-lake-resort-lake-c
 onroe/experiences/calendar-of-events/salsa-dance-class
SUMMARY:Salsa Dance Class
CLASS:PUBLIC
DESCRIPTION:Salsa Dance Class\n\nLearn the moves and feel the rhythm!
RRULE:FREQ=DAILY;INTERVAL=1;UNTIL=20260502T000000Z
X-MICROSOFT-CDO-ALLDAYEVENT:TRUE
CATEGORIES:Resort Events
DTSTAMP:20260421T121126Z
END:VEVENT
BEGIN:VEVENT
UID:69e7696e7bf1b
DTSTART;VALUE=DATE:20260501
SEQUENCE:0
TRANSP:OPAQUE
URL:https://www.margaritavilleresorts.com/margaritaville-lake-resort-lake-c
 onroe/experiences/calendar-of-events/beer-pong-tournament
SUMMARY:Beer Pong Tournament
CLASS:PUBLIC
DESCRIPTION:Beer Pong Tournament\n\nTry your hand and win a prize!
RRULE:FREQ=DAILY;INTERVAL=1;UNTIL=20260501T000000Z
X-MICROSOFT-CDO-ALLDAYEVENT:TRUE
CATEGORIES:Resort Events
DTSTAMP:20260421T121126Z
END:VEVENT
BEGIN:VEVENT
UID:69e7696e7c3b7
DTSTART;VALUE=DATE:20260501
SEQUENCE:0
TRANSP:OPAQUE
URL:https://www.margaritavilleresorts.com/margaritaville-lake-resort-lake-c
 onroe/experiences/calendar-of-events/margaritaville-mixology
SUMMARY:Margaritaville Mixology
CLASS:PUBLIC
DESCRIPTION:Margaritaville Mixology\n\nMargaritaville Mixology: Shake Thing
 s Up!
RRULE:FREQ=WEEKLY;INTERVAL=1;UNTIL=20260501T000000Z;BYDAY=TH
X-MICROSOFT-CDO-ALLDAYEVENT:TRUE
CATEGORIES:Resort Events,Boathouse Events
DTSTAMP:20260421T121126Z
END:VEVENT
BEGIN:VEVENT
UID:69e7696e7c9da
DTSTART;VALUE=DATE:20260501
SEQUENCE:0
TRANSP:OPAQUE
URL:https://www.margaritavilleresorts.com/margaritaville-lake-resort-lake-c
 onroe/experiences/calendar-of-events/latin-nights-music-hour
SUMMARY:Latin Nights Music Hour
CLASS:PUBLIC
DESCRIPTION:Latin Nights Music Hour\n\nLatin music\, festive energy\, and d
 ancing.
RRULE:FREQ=DAILY;INTERVAL=1;UNTIL=20260501T000000Z
X-MICROSOFT-CDO-ALLDAYEVENT:TRUE
CATEGORIES:Resort Events,Boathouse Events
DTSTAMP:20260421T121126Z
END:VEVENT
BEGIN:VEVENT
UID:69e7696e7cf2e
DTSTART;VALUE=DATE:20260510
SEQUENCE:0
TRANSP:OPAQUE
URL:https://www.margaritavilleresorts.com/margaritaville-lake-resort-lake-c
 onroe/experiences/calendar-of-events/mothers-day-brunch
SUMMARY:Mother's Day Brunch
CLASS:PUBLIC
DESCRIPTION:Mother's Day Brunch\n\nCelebrate Mom in style with a brunch tha
 t’s as special as she is.
RRULE:FREQ=DAILY;INTERVAL=1;UNTIL=20260510T000000Z
X-MICROSOFT-CDO-ALLDAYEVENT:TRUE
CATEGORIES:Food & Beverage,License to Chill Bar & Café
DTSTAMP:20260421T121126Z
END:VEVENT
END:VCALENDAR